BEGIN:VCALENDAR
VERSION:2.0
PRODID:-//PlateaPR - ECPv6.1.1//NONSGML v1.0//EN
CALSCALE:GREGORIAN
METHOD:PUBLISH
X-WR-CALNAME:PlateaPR
X-ORIGINAL-URL:https://www.plateapr.com
X-WR-CALDESC:Events for PlateaPR
REFRESH-INTERVAL;VALUE=DURATION:PT1H
X-Robots-Tag:noindex
X-PUBLISHED-TTL:PT1H
BEGIN:VTIMEZONE
TZID:America/New_York
BEGIN:DAYLIGHT
TZOFFSETFROM:-0500
TZOFFSETTO:-0400
TZNAME:EDT
DTSTART:20240310T070000
END:DAYLIGHT
BEGIN:STANDARD
TZOFFSETFROM:-0400
TZOFFSETTO:-0500
TZNAME:EST
DTSTART:20241103T060000
END:STANDARD
END:VTIMEZONE
BEGIN:VEVENT
DTSTART;TZID=America/New_York:20240713T200000
DTEND;TZID=America/New_York:20240713T220000
DTSTAMP:20260424T075551
CREATED:20240520T214405Z
LAST-MODIFIED:20240520T214405Z
UID:18057-1720900800-1720908000@www.plateapr.com
SUMMARY:Hijos
DESCRIPTION:
URL:https://www.plateapr.com/event/hijos-2
LOCATION:PR
CATEGORIES:Cine y Teatro
END:VEVENT
BEGIN:VEVENT
DTSTART;TZID=America/New_York:20240713T000000
DTEND;TZID=America/New_York:20240713T000000
DTSTAMP:20260424T075551
CREATED:20240520T214405Z
LAST-MODIFIED:20240520T214405Z
UID:18058-1720828800-1720828800@www.plateapr.com
SUMMARY:Taller demostrativo y práctico de xilografía
DESCRIPTION:
URL:https://www.plateapr.com/event/taller-demostrativo-y-practico-de-xilografia-2
LOCATION:PR
CATEGORIES:Arte y Cultura
END:VEVENT
BEGIN:VEVENT
DTSTART;TZID=America/New_York:20240704T080000
DTEND;TZID=America/New_York:20240706T170000
DTSTAMP:20260424T075551
CREATED:20240627T150807Z
LAST-MODIFIED:20240627T150807Z
UID:18728-1720080000-1720285200@www.plateapr.com
SUMMARY:Puerto Rico Ocean Fest
DESCRIPTION:Este festival marino incluye exhibiciones\, festival gastronómico\, chic bazaar\, torneo de pesca y música en vivo. Este año\, el evento también incluye el Brisa Ocean Fest Regatta\, saliendo del área del Yacht Club. En la música\, estarán Millo Torres\, Gustavo Laureano y DJ Iván Robles. Compra boletos aquí.
URL:https://www.plateapr.com/event/puerto-rico-ocean-fest
LOCATION:Palmas del Mar\, Humacao\, Humacao
CATEGORIES:Comida,Entretenimiento,Eventos Familiares,Familia,Festivales
END:VEVENT
BEGIN:VEVENT
DTSTART;TZID=America/New_York:20240703T080000
DTEND;TZID=America/New_York:20240707T170000
DTSTAMP:20260424T075551
CREATED:20240627T150558Z
LAST-MODIFIED:20240627T150558Z
UID:18724-1719993600-1720371600@www.plateapr.com
SUMMARY:Festival El Jobo
DESCRIPTION:Celebran 40 años de este pintoresco festival comerieño. Por cinco días consecutivos\, habrá música\, gastronomía y entretenimiento para todas las edades. Las actividades incluyen feria de gallos\, torneos y talleres.
URL:https://www.plateapr.com/event/festival-el-jobo
LOCATION:Bo. Higüero\, Comerío\, Comerío
CATEGORIES:Entretenimiento,Eventos Familiares,Festivales,Musica
END:VEVENT
BEGIN:VEVENT
DTSTART;TZID=America/New_York:20240629T200000
DTEND;TZID=America/New_York:20240629T230000
DTSTAMP:20260424T075551
CREATED:20240520T214406Z
LAST-MODIFIED:20240520T214406Z
UID:18059-1719691200-1719702000@www.plateapr.com
SUMMARY:Alexis Valdés\, La Risa Que Te Debo
DESCRIPTION:
URL:https://www.plateapr.com/event/alexis-valdes-la-risa-que-te-debo-2
LOCATION:PR
CATEGORIES:Cine y Teatro
END:VEVENT
BEGIN:VEVENT
DTSTART;TZID=America/New_York:20240629T150000
DTEND;TZID=America/New_York:20240629T210000
DTSTAMP:20260424T075551
CREATED:20240520T214407Z
LAST-MODIFIED:20240520T214407Z
UID:18060-1719673200-1719694800@www.plateapr.com
SUMMARY:Mafia Food Fest
DESCRIPTION:
URL:https://www.plateapr.com/event/mafia-food-fest-2
LOCATION:PR
CATEGORIES:Musica
END:VEVENT
BEGIN:VEVENT
DTSTART;TZID=America/New_York:20240627T080000
DTEND;TZID=America/New_York:20240628T170000
DTSTAMP:20260424T075551
CREATED:20240627T160950Z
LAST-MODIFIED:20240627T160950Z
UID:18740-1719475200-1719594000@www.plateapr.com
SUMMARY:Aguadichella
DESCRIPTION:Habrá arte\, concursos\, bailes\, moda\, comida\, artesanías y mucha música. Los artistas confirmados incluyen a Algarete\, Pirulo y La Tribu\, Víctor Manuelle\, Los Rabanes y Plenéalo. También habrá un encuentro de reggaetón old school con Alberto Style\, Ranking Stone\, Rey Pirín y DJ Negro.
URL:https://www.plateapr.com/event/aguadichella
LOCATION:Bahía de Aguadilla\, Aguadilla
CATEGORIES:Comida,Deportes,Entretenimiento,Eventos Familiares,Musica
END:VEVENT
BEGIN:VEVENT
DTSTART;TZID=America/New_York:20240627T080000
DTEND;TZID=America/New_York:20240627T170000
DTSTAMP:20260424T075551
CREATED:20240627T160810Z
LAST-MODIFIED:20240627T160810Z
UID:18739-1719475200-1719507600@www.plateapr.com
SUMMARY:10 Años Regando la Musa
DESCRIPTION:Este evento celebra los 10 años de Positive Musa con entretenimiento y presentaciones musicales. El line-up\, incluye a Doctor Manu\, Amaría Laboy\, Negro y Los Colores y Dúo Deleite. También habrá grafitti en vivo\, una pared interactiva y exposición de arte. Compra boletos aquí. \n$20 Entrada general / $350 boleto VIP
URL:https://www.plateapr.com/event/10-anos-regando-la-musa
LOCATION:Vivo Beach Club\, Isla Verde
CATEGORIES:Entretenimiento,Musica
END:VEVENT
BEGIN:VEVENT
DTSTART;TZID=America/New_York:20240627T080000
DTEND;TZID=America/New_York:20240627T170000
DTSTAMP:20260424T075551
CREATED:20240627T150647Z
LAST-MODIFIED:20240627T150647Z
UID:18726-1719475200-1719507600@www.plateapr.com
SUMMARY:Medalla Summer Island – Playéalo Edition
DESCRIPTION:Llégale a Culebra para este evento playero y musical que busca reciclar y conservar el ambiente. La música la pondrán Lími-T 21\, Banda Vía Urbana y DJ Gezzy.
URL:https://www.plateapr.com/event/medalla-summer-island-playealo-edition
LOCATION:Playa Flamenco y Plaza Pública\, Culebra\, Culebra
CATEGORIES:Comida,Entretenimiento,Festivales,Musica
END:VEVENT
BEGIN:VEVENT
DTSTART;TZID=America/New_York:20240626T080000
DTEND;TZID=America/New_York:20240630T170000
DTSTAMP:20260424T075551
CREATED:20240627T150054Z
LAST-MODIFIED:20240627T150054Z
UID:18721-1719388800-1719766800@www.plateapr.com
SUMMARY:Beach Tennis Series ITF BT400
DESCRIPTION:  \n\n\n\n\n\n\n\nDesde el 26 al 30 de junio\, la arena de la Poza del Obispo en Arecibo será el escenario de tenis de playa más grande del país con la celebración del Beach Tennis Series ITF BT400.\n\n\n\n\n\n\n\n\n\n\n•\nEs un evento nunca visto en la isla que reunirá a más de 150 jugadores profesionales\, entre ellos los mejores 10 jugadores del mundo de ambas ramas.\n\n\n\n\n\n\n\n\n\n\n•\nLos participantes competirán por $35\,000 en premios. El evento es a beneficio de la Fundación RIMAS y organizado junto a Be Beach Tennis.
URL:https://www.plateapr.com/event/beach-tennis-series-itf-bt400
LOCATION:PR
CATEGORIES:Deportes,Eventos Familiares
END:VEVENT
BEGIN:VEVENT
DTSTART;TZID=America/New_York:20240625T060000
DTEND;TZID=America/New_York:20240625T090000
DTSTAMP:20260424T075551
CREATED:20240520T214505Z
LAST-MODIFIED:20240520T214505Z
UID:18061-1719295200-1719306000@www.plateapr.com
SUMMARY:Academia intérpretes artesanales – Zona sur
DESCRIPTION:
URL:https://www.plateapr.com/event/academia-interpretes-artesanales-zona-sur-2
LOCATION:PR
CATEGORIES:Arte y Cultura
END:VEVENT
BEGIN:VEVENT
DTSTART;TZID=America/New_York:20240624T000000
DTEND;TZID=America/New_York:20240624T000000
DTSTAMP:20260424T075551
CREATED:20240520T214506Z
LAST-MODIFIED:20240520T214506Z
UID:18062-1719187200-1719187200@www.plateapr.com
SUMMARY:Taller de grabado intaglio
DESCRIPTION:
URL:https://www.plateapr.com/event/taller-de-grabado-intaglio-2
LOCATION:PR
CATEGORIES:Arte y Cultura
END:VEVENT
BEGIN:VEVENT
DTSTART;TZID=America/New_York:20240622T200000
DTEND;TZID=America/New_York:20240622T230000
DTSTAMP:20260424T075551
CREATED:20240520T214507Z
LAST-MODIFIED:20240520T214507Z
UID:18063-1719086400-1719097200@www.plateapr.com
SUMMARY:Los 100 años de Willie Rosario: El Bailable
DESCRIPTION:
URL:https://www.plateapr.com/event/los-100-anos-de-willie-rosario-el-bailable-2
LOCATION:Centro de Convenciones de Puerto Rico\, San Juan
CATEGORIES:Musica
END:VEVENT
BEGIN:VEVENT
DTSTART;TZID=America/New_York:20240622T110000
DTEND;TZID=America/New_York:20240622T160000
DTSTAMP:20260424T075551
CREATED:20240520T214507Z
LAST-MODIFIED:20240520T214507Z
UID:18064-1719054000-1719072000@www.plateapr.com
SUMMARY:Herencia Ancestral: El Simposio de Bomba
DESCRIPTION:
URL:https://www.plateapr.com/event/herencia-ancestral-el-simposio-de-bomba-2
LOCATION:PR
CATEGORIES:Musica
END:VEVENT
BEGIN:VEVENT
DTSTART;TZID=America/New_York:20240622T090000
DTEND;TZID=America/New_York:20240622T180000
DTSTAMP:20260424T075551
CREATED:20240520T214508Z
LAST-MODIFIED:20240520T214508Z
UID:18065-1719046800-1719079200@www.plateapr.com
SUMMARY:Gran Feria de Autos Antiguos
DESCRIPTION:
URL:https://www.plateapr.com/event/gran-feria-de-autos-antiguos-2
LOCATION:PR
CATEGORIES:Musica
END:VEVENT
BEGIN:VEVENT
DTSTART;TZID=America/New_York:20240621T000000
DTEND;TZID=America/New_York:20240621T000000
DTSTAMP:20260424T075551
CREATED:20240520T214605Z
LAST-MODIFIED:20240520T214605Z
UID:18066-1718928000-1718928000@www.plateapr.com
SUMMARY:Presentación y demostración de “Grabado No Toxico”
DESCRIPTION:
URL:https://www.plateapr.com/event/presentacion-y-demostracion-de-grabado-no-toxico-2
LOCATION:PR
CATEGORIES:Arte y Cultura
END:VEVENT
BEGIN:VEVENT
DTSTART;TZID=America/New_York:20240615T200000
DTEND;TZID=America/New_York:20240615T230000
DTSTAMP:20260424T075551
CREATED:20240520T214606Z
LAST-MODIFIED:20240520T214606Z
UID:18069-1718481600-1718492400@www.plateapr.com
SUMMARY:Gran Gala MAPR
DESCRIPTION:
URL:https://www.plateapr.com/event/gran-gala-mapr-2
LOCATION:PR
CATEGORIES:Musica
END:VEVENT
BEGIN:VEVENT
DTSTART;TZID=America/New_York:20240615T200000
DTEND;TZID=America/New_York:20240615T230000
DTSTAMP:20260424T075551
CREATED:20240520T214605Z
LAST-MODIFIED:20240520T214605Z
UID:18067-1718481600-1718492400@www.plateapr.com
SUMMARY:Raymond Arrieta… Como Anoche
DESCRIPTION:
URL:https://www.plateapr.com/event/raymond-arrieta-como-anoche-2
LOCATION:Centro de Bellas Artes de Caguas\, Caguas
CATEGORIES:Cine y Teatro
END:VEVENT
BEGIN:VEVENT
DTSTART;TZID=America/New_York:20240615T200000
DTEND;TZID=America/New_York:20240615T230000
DTSTAMP:20260424T075551
CREATED:20240520T214605Z
LAST-MODIFIED:20240520T214605Z
UID:18068-1718481600-1718492400@www.plateapr.com
SUMMARY:Traigo un Pueblo en mi Voz
DESCRIPTION:
URL:https://www.plateapr.com/event/traigo-un-pueblo-en-mi-voz-2
LOCATION:Centro de Bellas Artes de Caguas\, Caguas
CATEGORIES:Musica
END:VEVENT
BEGIN:VEVENT
DTSTART;TZID=America/New_York:20240615T190000
DTEND;TZID=America/New_York:20240615T210000
DTSTAMP:20260424T075551
CREATED:20240520T214606Z
LAST-MODIFIED:20240606T213010Z
UID:18070-1718478000-1718485200@www.plateapr.com
SUMMARY:Arte para tod@s | Pública
DESCRIPTION:
URL:https://www.plateapr.com/event/arte-para-tods-publica-2
LOCATION:El Bastión\, Viejo San Juan\, El Viejo San Juan
CATEGORIES:Musica
END:VEVENT
BEGIN:VEVENT
DTSTART;TZID=America/New_York:20240615T160000
DTEND;TZID=America/New_York:20240615T160000
DTSTAMP:20260424T075551
CREATED:20240520T214705Z
LAST-MODIFIED:20240520T214705Z
UID:18071-1718467200-1718467200@www.plateapr.com
SUMMARY:Patria y Cultura en Concierto
DESCRIPTION:
URL:https://www.plateapr.com/event/patria-y-cultura-en-concierto-2
LOCATION:PR
CATEGORIES:Musica
END:VEVENT
BEGIN:VEVENT
DTSTART;TZID=America/New_York:20240615T120000
DTEND;TZID=America/New_York:20240615T200000
DTSTAMP:20260424T075551
CREATED:20240520T214705Z
LAST-MODIFIED:20240520T214705Z
UID:18072-1718452800-1718481600@www.plateapr.com
SUMMARY:Gran Festival del Mangú
DESCRIPTION:
URL:https://www.plateapr.com/event/gran-festival-del-mangu-2
LOCATION:PR
CATEGORIES:Musica
END:VEVENT
BEGIN:VEVENT
DTSTART;TZID=America/New_York:20240615T080000
DTEND;TZID=America/New_York:20240615T170000
DTSTAMP:20260424T075551
CREATED:20240520T214705Z
LAST-MODIFIED:20240520T214705Z
UID:18073-1718438400-1718470800@www.plateapr.com
SUMMARY:Karmaval
DESCRIPTION:
URL:https://www.plateapr.com/event/karmaval-2
LOCATION:Playa Escambron\, San Juan\, San Juan\, 00910\, San Juan\, San Juan\, 00910\, Puerto Rico
CATEGORIES:Festivales
END:VEVENT
BEGIN:VEVENT
DTSTART;TZID=America/New_York:20240614T210000
DTEND;TZID=America/New_York:20240614T230000
DTSTAMP:20260424T075551
CREATED:20240520T214706Z
LAST-MODIFIED:20240520T214706Z
UID:18074-1718398800-1718406000@www.plateapr.com
SUMMARY:Reggaeton Hall of Fame
DESCRIPTION:
URL:https://www.plateapr.com/event/reggaeton-hall-of-fame-2
LOCATION:Vivo Beach Club\, Isla Verde
CATEGORIES:Musica
END:VEVENT
BEGIN:VEVENT
DTSTART;TZID=America/New_York:20240614T200000
DTEND;TZID=America/New_York:20240614T230000
DTSTAMP:20260424T075551
CREATED:20240520T214805Z
LAST-MODIFIED:20240520T214805Z
UID:18077-1718395200-1718406000@www.plateapr.com
SUMMARY:Simon Grossman en Puerto Rico
DESCRIPTION:
URL:https://www.plateapr.com/event/simon-grossman-en-puerto-rico-2
LOCATION:PR
CATEGORIES:Musica
END:VEVENT
BEGIN:VEVENT
DTSTART;TZID=America/New_York:20240614T200000
DTEND;TZID=America/New_York:20240614T230000
DTSTAMP:20260424T075551
CREATED:20240520T214706Z
LAST-MODIFIED:20240520T214706Z
UID:18075-1718395200-1718406000@www.plateapr.com
SUMMARY:Urbajazz
DESCRIPTION:
URL:https://www.plateapr.com/event/urbajazz-2
LOCATION:Centro de Bellas Artes de Caguas\, Caguas
CATEGORIES:Musica
END:VEVENT
BEGIN:VEVENT
DTSTART;TZID=America/New_York:20240614T200000
DTEND;TZID=America/New_York:20240614T220000
DTSTAMP:20260424T075551
CREATED:20240520T214805Z
LAST-MODIFIED:20240520T214805Z
UID:18076-1718395200-1718402400@www.plateapr.com
SUMMARY:Croatto Sinfónico
DESCRIPTION:
URL:https://www.plateapr.com/event/croatto-sinfonico-2
LOCATION:PR
CATEGORIES:Musica
END:VEVENT
BEGIN:VEVENT
DTSTART;TZID=America/New_York:20240614T080000
DTEND;TZID=America/New_York:20240614T150000
DTSTAMP:20260424T075551
CREATED:20240520T214805Z
LAST-MODIFIED:20240520T214805Z
UID:18078-1718352000-1718377200@www.plateapr.com
SUMMARY:Mujer Capital – 2da Edición
DESCRIPTION:
URL:https://www.plateapr.com/event/mujer-capital-2da-edicion-2
LOCATION:PR
CATEGORIES:Arte y Cutura
END:VEVENT
BEGIN:VEVENT
DTSTART;TZID=America/New_York:20240614T000000
DTEND;TZID=America/New_York:20240614T000000
DTSTAMP:20260424T075551
CREATED:20240520T214806Z
LAST-MODIFIED:20240520T214806Z
UID:18079-1718323200-1718323200@www.plateapr.com
SUMMARY:Gyotaku con plantas: Herbario
DESCRIPTION:
URL:https://www.plateapr.com/event/gyotaku-con-plantas-herbario-3
LOCATION:PR
CATEGORIES:Arte y Cultura
END:VEVENT
BEGIN:VEVENT
DTSTART;TZID=America/New_York:20240613T200000
DTEND;TZID=America/New_York:20240613T230000
DTSTAMP:20260424T075551
CREATED:20240520T214905Z
LAST-MODIFIED:20240520T214905Z
UID:18081-1718308800-1718319600@www.plateapr.com
SUMMARY:Dávila 666 2024 Tour Kick Off
DESCRIPTION:
URL:https://www.plateapr.com/event/davila-666-2024-tour-kick-off-2
LOCATION:PR
CATEGORIES:Musica
END:VEVENT
END:VCALENDAR